BEGIN:VCALENDAR
VERSION:2.0
PRODID:-//Psychotherapie | Epigenetik | Reflexintegration | Kerstin Ullrich - ECPv6.15.18//NONSGML v1.0//EN
CALSCALE:GREGORIAN
METHOD:PUBLISH
X-WR-CALNAME:Psychotherapie | Epigenetik | Reflexintegration | Kerstin Ullrich
X-ORIGINAL-URL:https://innerfeel.de
X-WR-CALDESC:Veranstaltungen für Psychotherapie | Epigenetik | Reflexintegration | Kerstin Ullrich
REFRESH-INTERVAL;VALUE=DURATION:PT1H
X-Robots-Tag:noindex
X-PUBLISHED-TTL:PT1H
BEGIN:VTIMEZONE
TZID:Europe/Berlin
BEGIN:DAYLIGHT
TZOFFSETFROM:+0100
TZOFFSETTO:+0200
TZNAME:CEST
DTSTART:20250330T010000
END:DAYLIGHT
BEGIN:STANDARD
TZOFFSETFROM:+0200
TZOFFSETTO:+0100
TZNAME:CET
DTSTART:20251026T010000
END:STANDARD
BEGIN:DAYLIGHT
TZOFFSETFROM:+0100
TZOFFSETTO:+0200
TZNAME:CEST
DTSTART:20260329T010000
END:DAYLIGHT
BEGIN:STANDARD
TZOFFSETFROM:+0200
TZOFFSETTO:+0100
TZNAME:CET
DTSTART:20261025T010000
END:STANDARD
BEGIN:DAYLIGHT
TZOFFSETFROM:+0100
TZOFFSETTO:+0200
TZNAME:CEST
DTSTART:20270328T010000
END:DAYLIGHT
BEGIN:STANDARD
TZOFFSETFROM:+0200
TZOFFSETTO:+0100
TZNAME:CET
DTSTART:20271031T010000
END:STANDARD
END:VTIMEZONE
BEGIN:VEVENT
DTSTART;TZID=Europe/Berlin:20260509T093000
DTEND;TZID=Europe/Berlin:20260509T160000
DTSTAMP:20260420T140008
CREATED:20260113T092640Z
LAST-MODIFIED:20260210T070249Z
UID:27255071-1778319000-1778342400@innerfeel.de
SUMMARY:Mandalamalkurs mit Regina Rauh
DESCRIPTION:Ein besonderer Tag für dich – kreativ\, tiefgehend und voller Energie\nAm 09.05.2026 öffnet sich in den Räumen der Praxis INNERFEEL ein geschützter Raum für Farbe\, Stille\, Ausdruck und innere Verbindung.\nGemeinsam mit Regina Rauh laden wir dich herzlich zu einem einzigartigen Mandala-Malkurs ein – einer Reise zu dir selbst\, die weit über das Malen hinausgeht. \nDieser Tag ist ein Geschenk an dich.\nEin Innehalten.\nEin Erinnern.\nEin kreatives Eintauchen in dein ganz persönliches Mandala. \n✨ Worum es geht \nWir malen dein persönliches Mandala – intuitiv und frei.\nFarben\, Formen und Symbole dürfen aus deinem Inneren entstehen – getragen von Meditation\, Präsenz und achtsamer Begleitung. \nDu brauchst keinerlei Vorkenntnisse. Alles\, was du mitbringen darfst\, bist du. \n🌀 Ablauf des Tages \nAnkommen & Einstimmen \n\nBegrüßung mit Tee oder Kaffee\nKurzes Kennenlernen in wertschätzender Atmosphäre\n\nKreative Phase \n\nEinführung in eine Mandala-Maltechnik\nGestalterische Grundlagen – sanft und verständlich\nGemeinsame Meditationen\, von Regina angeleitet\nIntuitives\, individuelles Arbeiten\nIntensive persönliche Begleitung durch Regina\n\nAbschluss \n\nAbschließende Meditation\nAustausch von Fragen\, Erfahrungen und Erkenntnissen\n\n🎨 Was dich erwartet \n\nDein persönliches Mandala auf Leinwand / Keilrahmen (30 × 30 cm)\nTiefe Entspannungs- und Energieerfahrung\nKreative & spirituelle Impulse\nNeue innere Klarheit und Inspiration\nRaum für Erkenntnisse\, die nachwirken\n\n🌿 Inklusive \n\nAlle Malmaterialien\nHochwertige Verziermaterialien (Edelsteine\, Schmucksteinchen u. v. m.)\nMeditationsleitung\nTee\, Kaffee & Wasser\n\n🥗 Gemeinsames Buffet \nWir wünschen uns ein lebendiges\, nährendes Miteinander:\nJede:r darf eine kleine Fingerfood-Kleinigkeit mitbringen – so entsteht ein buntes Buffet\, das wir gemeinsam genießen. \nMehr Infos zu Regina\, findest du unter https://regina-rauh.de \n 
URL:https://innerfeel.de/event/mandalamalkurs-mit-regina-rauh/
LOCATION:Innerfeel – Praxis\, Nürnberger Straße 18\, Lauf a.d. Pegnitz\, 91207\, Germany
CATEGORIES:Erwachsene
ATTACH;FMTTYPE=image/jpeg:https://innerfeel.de/wp-content/uploads/2026/01/WhatsApp-Image-2026-01-13-at-10.19.59.jpeg
END:VEVENT
END:VCALENDAR